BEGIN:VCALENDAR
VERSION:2.0
PRODID:-//LatCrit - ECPv6.15.17//NONSGML v1.0//EN
CALSCALE:GREGORIAN
METHOD:PUBLISH
X-ORIGINAL-URL:https://latcrit.org
X-WR-CALDESC:Events for LatCrit
REFRESH-INTERVAL;VALUE=DURATION:PT1H
X-Robots-Tag:noindex
X-PUBLISHED-TTL:PT1H
BEGIN:VTIMEZONE
TZID:UTC
BEGIN:STANDARD
TZOFFSETFROM:+0000
TZOFFSETTO:+0000
TZNAME:UTC
DTSTART:20230101T000000
END:STANDARD
END:VTIMEZONE
BEGIN:VEVENT
DTSTART;VALUE=DATE:20240724
DTEND;VALUE=DATE:20240731
DTSTAMP:20260421T191318
CREATED:20260116T011316Z
LAST-MODIFIED:20260116T011402Z
UID:6397-1721779200-1722383999@latcrit.org
SUMMARY:Intersection of Law and Mental Health Care Workshop
DESCRIPTION:
URL:https://latcrit.org/event/intersection-of-law-and-mental-health-care-workshop/
END:VEVENT
BEGIN:VEVENT
DTSTART;VALUE=DATE:20251016
DTEND;VALUE=DATE:20251019
DTSTAMP:20260421T191318
CREATED:20250403T155241Z
LAST-MODIFIED:20251110T192000Z
UID:6249-1760572800-1760831999@latcrit.org
SUMMARY:LATCRIT 2025 30TH ANNIVERSARY CONFERENCE
DESCRIPTION:Join us in Denver to connect\, strategize\, and organize! In October 2025\, Latina and\nLatino Critical Legal Theory (“LatCrit”) will convene its biennial conference in Denver\,\nColorado. The LatCrit board of directors invites you to propose panels\, roundtable\ndiscussions\, workshops\, individual presentations\, and works in progress on topics related to\nthe conference themes and other aspects of critical outsider jurisprudence. Additionally\,\nLatCrit 2025 will feature multiple plenary convenings to advance critical theory\, community\,\nand praxis. \nLatCrit 2025 Call for Proposals
URL:https://latcrit.org/event/latcrit-2025-30th-anniversary-conference/
END:VEVENT
END:VCALENDAR